BEGIN:VCALENDAR
VERSION:2.0
PRODID:-//Tukios.com/
BEGIN:VEVENT
UID:c173d6f0-0ee3-4528-b55a-87514e369a5d@www.bethanyfuneralhome.com
DTSTAMP:20260424T212631Z
DTSTART:20260504T171500Z
DTEND:20260504T173000Z
SUMMARY:Graveside Service
DESCRIPTION:
URL:https://www.bethanyfuneralhome.com/obituaries/john-jack-roy
LOCATION:  Cemetery Road  Papillion NE 68046
GEO:41.1417249;-96.0338544
END:VEVENT
END:VCALENDAR