BEGIN:VCALENDAR
VERSION:2.0
PRODID:-//Tukios.com/
BEGIN:VEVENT
UID:d64080c2-31bd-4901-9167-6e2895990ac3@www.bethanyfuneralhome.com
DTSTAMP:20260424T212543Z
DTSTART:20260504T160000Z
DTEND:20260504T170000Z
SUMMARY:Funeral Service
DESCRIPTION:
URL:https://www.bethanyfuneralhome.com/obituaries/john-jack-roy
LOCATION: 8201 Harrison St  La Vista NE 68128
GEO:41.1901915;-96.03982
END:VEVENT
END:VCALENDAR