BEGIN:VCALENDAR
VERSION:2.0
PRODID:-//Tukios.com/
BEGIN:VEVENT
UID:3ba1bb7f-8d24-455b-9f45-338ccbfb37e6@www.bethanyfuneralhome.com
DTSTAMP:20260424T212237Z
DTSTART:20260504T150000Z
DTEND:20260504T160000Z
SUMMARY:Visitation
DESCRIPTION:
URL:https://www.bethanyfuneralhome.com/obituaries/john-jack-roy
LOCATION: 8201 Harrison St  La Vista NE 68128
GEO:41.1901915;-96.03982
END:VEVENT
END:VCALENDAR